BEGIN:VCALENDAR
VERSION:2.0
PRODID:-//Panel Builder US - ECPv6.15.20//NONSGML v1.0//EN
CALSCALE:GREGORIAN
METHOD:PUBLISH
X-ORIGINAL-URL:https://www.panelbuilderus.com
X-WR-CALDESC:Events for Panel Builder US
REFRESH-INTERVAL;VALUE=DURATION:PT1H
X-Robots-Tag:noindex
X-PUBLISHED-TTL:PT1H
BEGIN:VTIMEZONE
TZID:America/Toronto
BEGIN:DAYLIGHT
TZOFFSETFROM:-0500
TZOFFSETTO:-0400
TZNAME:EDT
DTSTART:20250309T070000
END:DAYLIGHT
BEGIN:STANDARD
TZOFFSETFROM:-0400
TZOFFSETTO:-0500
TZNAME:EST
DTSTART:20251102T060000
END:STANDARD
BEGIN:DAYLIGHT
TZOFFSETFROM:-0500
TZOFFSETTO:-0400
TZNAME:EDT
DTSTART:20260308T070000
END:DAYLIGHT
BEGIN:STANDARD
TZOFFSETFROM:-0400
TZOFFSETTO:-0500
TZNAME:EST
DTSTART:20261101T060000
END:STANDARD
BEGIN:DAYLIGHT
TZOFFSETFROM:-0500
TZOFFSETTO:-0400
TZNAME:EDT
DTSTART:20270314T070000
END:DAYLIGHT
BEGIN:STANDARD
TZOFFSETFROM:-0400
TZOFFSETTO:-0500
TZNAME:EST
DTSTART:20271107T060000
END:STANDARD
END:VTIMEZONE
BEGIN:VEVENT
DTSTART;VALUE=DATE:20260422
DTEND;VALUE=DATE:20260424
DTSTAMP:20260425T184950
CREATED:20260410T140303Z
LAST-MODIFIED:20260410T140331Z
UID:46834-1776816000-1776988799@www.panelbuilderus.com
SUMMARY:MD&M South 2026
DESCRIPTION:The Southeast’s Most Comprehensive Manufacturing Event\nEfficiently and effectively use your time and money by attending ONE SHOW THAT COVERS ALL aspects of the manufacturing process. \n\nMedTech: Elite companies showcasing innovations in cardiovascular care\, medical device manufacturing\, general healthcare and more.\nAutomation: The latest technology in robotics\, sensors\, motion control and automated systems to boost efficiency.\nPackaging: Discover the latest in sustainable packaging\, automation for packaging lines\, and smart packaging solutions.\nDesign & Manufacturing: Meet with leading designers and engineers who are bringing advanced concepts to life.\nPlastics: Connect with top companies in 3D Printing\, Injection Molding\, Coatings\, Furnishing\, and more.\nPowder & Bulk Solids: Find new solutions to optimize performance and profitability across dry handling and processing.\nBattery: Source the latest in advanced battery technology\, from cells and pack assembly\, and manufacturing equipment.\nEV Tech: Explore cutting-edge electric and hybrid vehicle technologies\, including power electronics\, charging systems\, and e-mobility solutions.\nEnergy Storage: Discover the innovations shaping energy storage\, from grid-scale systems to power management and next-gen components.\n\nFree expo-only registration online before the event; $34.99 at the door otherwise. Paid workshop bundles available.
URL:https://www.panelbuilderus.com/event/mdm-south-2026/
LOCATION:Charlotte Convention Center\, 501 S College St\, Charlotte\, NC\, 28202\, United States
CATEGORIES:Automation,Manufacturing,Robotics
ATTACH;FMTTYPE=image/jpeg:https://www.panelbuilderus.com/wp-content/uploads/2026/04/PBUS-Event-MDM-South2026-1200.jpg
END:VEVENT
END:VCALENDAR